BEGIN:VCALENDAR
VERSION:2.0
CALSCALE:GREGORIAN
PRODID:-//Diputació de Barcelona//DibaCMS//EN
BEGIN:VEVENT
UID:21725
DTSTAMP:20260425T030557
DTSTART:20231016T000000
DTEND:20231114T000000
SUMMARY:Curs d'auxiliar de serveis i consergeria
LOCATION:
METHOD:PUBLISH
X-WR-CALNAME:comunicacio@castellbisbal.cat
X-WR-TIMEZONE:Europe/Madrid
DESCRIPTION:Del 16 d'octubre al 14 de novembre, pràctiques la segona quinzena de novembre

URI:https://www.castellbisbal.cat/actualitat/agenda/curs-dauxiliar-de-serveis-i-consergeria.html
CLASS:PUBLIC
END:VEVENT
END:VCALENDAR
