BEGIN:VCALENDAR
VERSION:2.0
CALSCALE:GREGORIAN
PRODID:-//Diputació de Barcelona//DibaCMS//EN
BEGIN:VEVENT
UID:21751
DTSTAMP:20260424T160718
DTSTART:20230709T100000
DTEND:20230709T100000
SUMMARY:Mulla't per l'esclerosi múltiple
LOCATION:C. dels Esports 08755 Castellbisbal
METHOD:PUBLISH
X-WR-CALNAME:comunicacio@castellbisbal.cat
X-WR-TIMEZONE:Europe/Madrid
DESCRIPTION:De 10.00 a 15.00 h, a la piscina d'estiu

URI:https://www.castellbisbal.cat/actualitat/agenda/21751-mullat-per-lesclerosi-multiple.html
CLASS:PUBLIC
END:VEVENT
END:VCALENDAR
