BEGIN:VCALENDAR
VERSION:2.0
CALSCALE:GREGORIAN
PRODID:-//Diputació de Barcelona//DibaCMS//EN
BEGIN:VEVENT
UID:21754
DTSTAMP:20260424T160826
DTSTART:20230626T083000
DTEND:20230626T083000
SUMMARY:Ple extraordinari del mes de juny
LOCATION:Avinguda de Pau Casals, 9 08755 Castellbisbal
METHOD:PUBLISH
X-WR-CALNAME:comunicacio@castellbisbal.cat
X-WR-TIMEZONE:Europe/Madrid
DESCRIPTION:A les 08.30 h, a la sala de plens de l'Ajuntament

URI:https://www.castellbisbal.cat/actualitat/agenda/21754-ple-extraordinari-del-mes-de-juny.html
CLASS:PUBLIC
END:VEVENT
END:VCALENDAR
