BEGIN:VCALENDAR
VERSION:2.0
CALSCALE:GREGORIAN
PRODID:-//Diputació de Barcelona//DibaCMS//EN
BEGIN:VEVENT
UID:21763
DTSTAMP:20260424T081434
DTSTART:20230703T160000
DTEND:20230714T140000
SUMMARY:Mostra de fons: "El món del vi"
LOCATION:Av. de Pau Casals, 16 08755 Castellbisbal
METHOD:PUBLISH
X-WR-CALNAME:comunicacio@castellbisbal.cat
X-WR-TIMEZONE:Europe/Madrid
DESCRIPTION:Del 3 al 14 de juliol a la Biblioteca, durant el seu horari d'obertura

URI:https://www.castellbisbal.cat/actualitat/agenda/biblioteca/mostra-de-fons-el-mon-del-vi.html
CLASS:PUBLIC
END:VEVENT
END:VCALENDAR
