BEGIN:VCALENDAR
VERSION:2.0
CALSCALE:GREGORIAN
PRODID:-//Diputació de Barcelona//DibaCMS//EN
BEGIN:VEVENT
UID:21764
DTSTAMP:20260424T211613
DTSTART:20230705T180000
DTEND:20230705T180000
SUMMARY:Taller familiar: "L'auca cinematogràfica del vi"
LOCATION:Av. de Pau Casals, 16 08755 Castellbisbal
METHOD:PUBLISH
X-WR-CALNAME:comunicacio@castellbisbal.cat
X-WR-TIMEZONE:Europe/Madrid
DESCRIPTION:A les 18.00 h, a la Biblioteca

URI:https://www.castellbisbal.cat/actualitat/agenda/biblioteca/taller-familiar-lauca-cinematografica-del-vi.html
CLASS:PUBLIC
END:VEVENT
END:VCALENDAR
