BEGIN:VCALENDAR
VERSION:2.0
CALSCALE:GREGORIAN
PRODID:-//Diputació de Barcelona//DibaCMS//EN
BEGIN:VEVENT
UID:21765
DTSTAMP:20260424T064206
DTSTART:20230704T190000
DTEND:20230704T190000
SUMMARY:Maridatge de música i vi: "Cançó de taverna i vi"
LOCATION:Av. de Pau Casals, 16 08755 Castellbisbal
METHOD:PUBLISH
X-WR-CALNAME:comunicacio@castellbisbal.cat
X-WR-TIMEZONE:Europe/Madrid
DESCRIPTION:A les 19.00 h, a la Biblioteca

URI:https://www.castellbisbal.cat/actualitat/agenda/biblioteca/maridatge-de-musica-i-vi-canco-de-taverna-i-vi.html
CLASS:PUBLIC
END:VEVENT
END:VCALENDAR
