BEGIN:VCALENDAR
VERSION:2.0
CALSCALE:GREGORIAN
PRODID:-//Diputació de Barcelona//DibaCMS//EN
BEGIN:VEVENT
UID:21766
DTSTAMP:20260425T025911
DTSTART:20230708T110000
DTEND:20230708T110000
SUMMARY:Taller familiar: "Pintar amb pinzellades de vi, experimenta-ho!"
LOCATION:Av. de Pau Casals, 16 08755 Castellbisbal
METHOD:PUBLISH
X-WR-CALNAME:comunicacio@castellbisbal.cat
X-WR-TIMEZONE:Europe/Madrid
DESCRIPTION:Dues sessions: a les 11.00 i a les 12.30 h, al Museu de la Pagesia

URI:https://www.castellbisbal.cat/actualitat/agenda/biblioteca/taller-familiar-pintar-amb-pinzellades-de-vi-experimenta-ho.html
CLASS:PUBLIC
END:VEVENT
END:VCALENDAR
