BEGIN:VCALENDAR
VERSION:2.0
CALSCALE:GREGORIAN
PRODID:-//Diputació de Barcelona//DibaCMS//EN
BEGIN:VEVENT
UID:21767
DTSTAMP:20260424T111622
DTSTART:20230703T180000
DTEND:20230703T180000
SUMMARY:Conte-taller familiar d'estiu: "Monstres"
LOCATION:Av. de Pau Casals, 16 08755 Castellbisbal
METHOD:PUBLISH
X-WR-CALNAME:comunicacio@castellbisbal.cat
X-WR-TIMEZONE:Europe/Madrid
DESCRIPTION:A les 18.00 h, a la Biblioteca

URI:https://www.castellbisbal.cat/actualitat/agenda/biblioteca/conte-taller-familiar-destiu-monstres.html
CLASS:PUBLIC
END:VEVENT
END:VCALENDAR
