BEGIN:VCALENDAR
VERSION:2.0
CALSCALE:GREGORIAN
PRODID:-//Diputació de Barcelona//DibaCMS//EN
BEGIN:VEVENT
UID:21770
DTSTAMP:20260425T014334
DTSTART:20230717T170000
DTEND:20230717T170000
SUMMARY:Conte-taller familiar d'estiu: "Canta i balla"
LOCATION:Av. de Pau Casals, 16 08755 Castellbisbal
METHOD:PUBLISH
X-WR-CALNAME:comunicacio@castellbisbal.cat
X-WR-TIMEZONE:Europe/Madrid
DESCRIPTION:A les 17.00 h, a la Biblioteca

URI:https://www.castellbisbal.cat/actualitat/agenda/biblioteca/conte-taller-familiar-destiu-canta-i-balla.html
CLASS:PUBLIC
END:VEVENT
END:VCALENDAR
