BEGIN:VCALENDAR
VERSION:2.0
CALSCALE:GREGORIAN
PRODID:-//Diputació de Barcelona//DibaCMS//EN
BEGIN:VEVENT
UID:21773
DTSTAMP:20260424T015658
DTSTART:20230706T183000
DTEND:20230706T183000
SUMMARY:Tarda de bàsquet
LOCATION:C. Agricultura, s/n 08755 Castellbisbal
METHOD:PUBLISH
X-WR-CALNAME:comunicacio@castellbisbal.cat
X-WR-TIMEZONE:Europe/Madrid
DESCRIPTION:De 18.30 a 20.30 h, a l'Illa Esportiva

URI:https://www.castellbisbal.cat/actualitat/agenda/21773-tarda-de-basquet.html
CLASS:PUBLIC
END:VEVENT
END:VCALENDAR
