BEGIN:VCALENDAR
VERSION:2.0
CALSCALE:GREGORIAN
PRODID:-//Diputació de Barcelona//DibaCMS//EN
BEGIN:VEVENT
UID:21774
DTSTAMP:20260424T174747
DTSTART:20230707T183000
DTEND:20230707T183000
SUMMARY:Anem d'excursió!
LOCATION:
METHOD:PUBLISH
X-WR-CALNAME:comunicacio@castellbisbal.cat
X-WR-TIMEZONE:Europe/Madrid
DESCRIPTION:De 18.30 a 20.30 h, a Can Galí

URI:https://www.castellbisbal.cat/actualitat/agenda/anem-dexcursio.html
CLASS:PUBLIC
END:VEVENT
END:VCALENDAR
