BEGIN:VCALENDAR
VERSION:2.0
CALSCALE:GREGORIAN
PRODID:-//Diputació de Barcelona//DibaCMS//EN
BEGIN:VEVENT
UID:21798
DTSTAMP:20260423T225638
DTSTART:20230726T180000
DTEND:20230726T180000
SUMMARY:Iniciació al dibuix i "sketchbook"
LOCATION:Carrer Francesc Macià, 64 08755 Castellbisbal
METHOD:PUBLISH
X-WR-CALNAME:comunicacio@castellbisbal.cat
X-WR-TIMEZONE:Europe/Madrid
DESCRIPTION:De 18.00 a 20.00 h, al Racó Jove

URI:https://www.castellbisbal.cat/actualitat/agenda/21798-iniciacio-al-dibuix-i-sketchbook.html
CLASS:PUBLIC
END:VEVENT
END:VCALENDAR
