BEGIN:VCALENDAR
VERSION:2.0
CALSCALE:GREGORIAN
PRODID:-//Diputació de Barcelona//DibaCMS//EN
BEGIN:VEVENT
UID:21802
DTSTAMP:20260424T110134
DTSTART:20230724T180000
DTEND:20230724T180000
SUMMARY:Taller de producció musical
LOCATION:Carrer Francesc Macià, 64 08755 Castellbisbal
METHOD:PUBLISH
X-WR-CALNAME:comunicacio@castellbisbal.cat
X-WR-TIMEZONE:Europe/Madrid
DESCRIPTION:De 18.00 a 20.00 h, al Racó Jove

URI:https://www.castellbisbal.cat/actualitat/agenda/21802-taller-de-produccio-musical.html
CLASS:PUBLIC
END:VEVENT
END:VCALENDAR
