BEGIN:VCALENDAR
VERSION:2.0
CALSCALE:GREGORIAN
PRODID:-//Diputació de Barcelona//DibaCMS//EN
BEGIN:VEVENT
UID:21824
DTSTAMP:20260424T172835
DTSTART:20230705T103000
DTEND:20230705T103000
SUMMARY:Curs de premonitors/ores
LOCATION:Carrer Francesc Macià, 64 08755 Castellbisbal
METHOD:PUBLISH
X-WR-CALNAME:comunicacio@castellbisbal.cat
X-WR-TIMEZONE:Europe/Madrid
DESCRIPTION:Els dies 3, 4, 5, 6 i 7 de juliol de 10.30 a 14.30 h, al Racó Jove

URI:https://www.castellbisbal.cat/actualitat/agenda/21824-curs-de-premonitorsores.html
CLASS:PUBLIC
END:VEVENT
END:VCALENDAR
