BEGIN:VCALENDAR
VERSION:2.0
CALSCALE:GREGORIAN
PRODID:-//Diputació de Barcelona//DibaCMS//EN
BEGIN:VEVENT
UID:21829
DTSTAMP:20260424T235109
DTSTART:20230707T180000
DTEND:20230707T180000
SUMMARY:Festa de la diversitat funcional
LOCATION:Plaça de l'Església 08755 Castellbisbal
METHOD:PUBLISH
X-WR-CALNAME:comunicacio@castellbisbal.cat
X-WR-TIMEZONE:Europe/Madrid
DESCRIPTION:De 18.00 a 20.00 h, al pati de l'Esbarjo

URI:https://www.castellbisbal.cat/actualitat/agenda/festa-de-la-diversitat-funcional.html
CLASS:PUBLIC
END:VEVENT
END:VCALENDAR
