BEGIN:VCALENDAR
VERSION:2.0
CALSCALE:GREGORIAN
PRODID:-//Diputació de Barcelona//DibaCMS//EN
BEGIN:VEVENT
UID:21842
DTSTAMP:20260424T203716
DTSTART:20230715T203000
DTEND:20230715T203000
SUMMARY:Cap de setmana màgic: acampada popular i contes
LOCATION:Carrer Montjuic, 14-20 08755 Castellbisbal
METHOD:PUBLISH
X-WR-CALNAME:comunicacio@castellbisbal.cat
X-WR-TIMEZONE:Europe/Madrid
DESCRIPTION:A partir de les 20:30 h, al Centre cívic de Can Santeugini

URI:https://www.castellbisbal.cat/actualitat/agenda/cap-de-setmana-magic-acampada-popular-i-contes.html
CLASS:PUBLIC
END:VEVENT
END:VCALENDAR
