BEGIN:VCALENDAR
VERSION:2.0
CALSCALE:GREGORIAN
PRODID:-//Diputació de Barcelona//DibaCMS//EN
BEGIN:VEVENT
UID:21844
DTSTAMP:20260424T194604
DTSTART:20230716T093000
DTEND:20230716T093000
SUMMARY:Cap de setmana màgic: esmorzar de germanor
LOCATION:Carrer Montjuic, 14-20 08755 Castellbisbal
METHOD:PUBLISH
X-WR-CALNAME:comunicacio@castellbisbal.cat
X-WR-TIMEZONE:Europe/Madrid
DESCRIPTION:A les 9:30 h, al Centre cívic de Can Santeuigini

URI:https://www.castellbisbal.cat/actualitat/agenda/cap-de-setmana-magic-esmorzar-de-germanor.html
CLASS:PUBLIC
END:VEVENT
END:VCALENDAR
