BEGIN:VCALENDAR
VERSION:2.0
CALSCALE:GREGORIAN
PRODID:-//Diputació de Barcelona//DibaCMS//EN
BEGIN:VEVENT
UID:21845
DTSTAMP:20260424T232042
DTSTART:20230715T220000
DTEND:20230715T220000
SUMMARY:Cap de setmana màgic: quinto
LOCATION:Carrer Montjuic, 14-20 08755 Castellbisbal
METHOD:PUBLISH
X-WR-CALNAME:comunicacio@castellbisbal.cat
X-WR-TIMEZONE:Europe/Madrid
DESCRIPTION:A les 22.00 h, al Centre cívic de Can Santeugini

URI:https://www.castellbisbal.cat/actualitat/agenda/cap-de-setmana-magic-quinto.html
CLASS:PUBLIC
END:VEVENT
END:VCALENDAR
