BEGIN:VCALENDAR
VERSION:2.0
CALSCALE:GREGORIAN
PRODID:-//Diputació de Barcelona//DibaCMS//EN
BEGIN:VEVENT
UID:21846
DTSTAMP:20260425T002440
DTSTART:20230716T110000
DTEND:20230716T110000
SUMMARY:Cap de setmana màgic: festa Holi
LOCATION:Carrer Montjuic, 14-20 08755 Castellbisbal
METHOD:PUBLISH
X-WR-CALNAME:comunicacio@castellbisbal.cat
X-WR-TIMEZONE:Europe/Madrid
DESCRIPTION:ANUL·LAT!

URI:https://www.castellbisbal.cat/actualitat/agenda/cap-de-setmana-magic-festa-holi.html
CLASS:PUBLIC
END:VEVENT
END:VCALENDAR
