BEGIN:VCALENDAR
VERSION:2.0
CALSCALE:GREGORIAN
PRODID:-//Diputació de Barcelona//DibaCMS//EN
BEGIN:VEVENT
UID:21847
DTSTAMP:20260424T180714
DTSTART:20230716T120000
DTEND:20230716T120000
SUMMARY:Cap de setmana màgic: vermut del soci
LOCATION:Carrer Montjuic, 14-20 08755 Castellbisbal
METHOD:PUBLISH
X-WR-CALNAME:comunicacio@castellbisbal.cat
X-WR-TIMEZONE:Europe/Madrid
DESCRIPTION:ANUL·LAT!

URI:https://www.castellbisbal.cat/actualitat/agenda/cap-de-setmana-magic-vermut-del-soci.html
CLASS:PUBLIC
END:VEVENT
END:VCALENDAR
