BEGIN:VCALENDAR
VERSION:2.0
CALSCALE:GREGORIAN
PRODID:-//Diputació de Barcelona//DibaCMS//EN
BEGIN:VEVENT
UID:21848
DTSTAMP:20260424T110028
DTSTART:20230729T230000
DTEND:20230729T230000
SUMMARY:Festa dels anys 80 i 90
LOCATION:Carrer Montjuic, 14-20 08755 Castellbisbal
METHOD:PUBLISH
X-WR-CALNAME:comunicacio@castellbisbal.cat
X-WR-TIMEZONE:Europe/Madrid
DESCRIPTION:A les 23.00 h, al Centre cívic Can Santeugini

URI:https://www.castellbisbal.cat/actualitat/agenda/festa-dels-anys-80-i-90.html
CLASS:PUBLIC
END:VEVENT
END:VCALENDAR
