BEGIN:VCALENDAR
VERSION:2.0
CALSCALE:GREGORIAN
PRODID:-//Diputació de Barcelona//DibaCMS//EN
BEGIN:VEVENT
UID:21859
DTSTAMP:20260424T050607
DTSTART:20230817T180000
DTEND:20230817T180000
SUMMARY:Arribada de l'aigua i la llum
LOCATION:C. Major, 103 08755 Castellbisbal
METHOD:PUBLISH
X-WR-CALNAME:comunicacio@castellbisbal.cat
X-WR-TIMEZONE:Europe/Madrid
DESCRIPTION:A les 18.00 h, inici a Can Margarit

URI:https://www.castellbisbal.cat/actualitat/agenda/21859-arribada-de-laigua-i-la-llum.html
CLASS:PUBLIC
END:VEVENT
END:VCALENDAR
