BEGIN:VCALENDAR
VERSION:2.0
CALSCALE:GREGORIAN
PRODID:-//Diputació de Barcelona//DibaCMS//EN
BEGIN:VEVENT
UID:21860
DTSTAMP:20260424T142448
DTSTART:20230817T183000
DTEND:20230817T183000
SUMMARY:Mostra de la imatgeria festiva
LOCATION:Plaça del Joc 08755 Castellbisbal
METHOD:PUBLISH
X-WR-CALNAME:comunicacio@castellbisbal.cat
X-WR-TIMEZONE:Europe/Madrid
DESCRIPTION:A les 18.30 h, a la plaça del Joc

URI:https://www.castellbisbal.cat/actualitat/agenda/21860-mostra-de-la-imatgeria-festiva.html
CLASS:PUBLIC
END:VEVENT
END:VCALENDAR
