BEGIN:VCALENDAR
VERSION:2.0
CALSCALE:GREGORIAN
PRODID:-//Diputació de Barcelona//DibaCMS//EN
BEGIN:VEVENT
UID:21861
DTSTAMP:20260424T234320
DTSTART:20230817T190000
DTEND:20230817T190000
SUMMARY:L'Encetada
LOCATION:Plaça del Joc 08755 Castellbisbal
METHOD:PUBLISH
X-WR-CALNAME:comunicacio@castellbisbal.cat
X-WR-TIMEZONE:Europe/Madrid
DESCRIPTION:A les 19.00 h, inici a la plaça del Joc

URI:https://www.castellbisbal.cat/actualitat/agenda/21861-lencetada.html
CLASS:PUBLIC
END:VEVENT
END:VCALENDAR
