BEGIN:VCALENDAR
VERSION:2.0
CALSCALE:GREGORIAN
PRODID:-//Diputació de Barcelona//DibaCMS//EN
BEGIN:VEVENT
UID:21862
DTSTAMP:20260424T074843
DTSTART:20230817T203000
DTEND:20230817T203000
SUMMARY:La baixada
LOCATION:
METHOD:PUBLISH
X-WR-CALNAME:comunicacio@castellbisbal.cat
X-WR-TIMEZONE:Europe/Madrid
DESCRIPTION:A les 20.30 h, al c. Ametllers, c. Sant Joan i av. Pau Casals

URI:https://www.castellbisbal.cat/actualitat/agenda/21862-la-baixada.html
CLASS:PUBLIC
END:VEVENT
END:VCALENDAR
