BEGIN:VCALENDAR
VERSION:2.0
CALSCALE:GREGORIAN
PRODID:-//Diputació de Barcelona//DibaCMS//EN
BEGIN:VEVENT
UID:21863
DTSTAMP:20260424T013943
DTSTART:20230817T213000
DTEND:20230817T213000
SUMMARY:Concert amb Bóssalo
LOCATION:Plaça del Joc 08755 Castellbisbal
METHOD:PUBLISH
X-WR-CALNAME:comunicacio@castellbisbal.cat
X-WR-TIMEZONE:Europe/Madrid
DESCRIPTION:A les 21.30 h, a la plaça del Joc

URI:https://www.castellbisbal.cat/actualitat/agenda/21863-concert-amb-bossalo.html
CLASS:PUBLIC
END:VEVENT
END:VCALENDAR
