BEGIN:VCALENDAR
VERSION:2.0
CALSCALE:GREGORIAN
PRODID:-//Diputació de Barcelona//DibaCMS//EN
BEGIN:VEVENT
UID:21865
DTSTAMP:20260423T225407
DTSTART:20230817T230000
DTEND:20230817T230000
SUMMARY:Nit del Curtcircuit. Acte II: Sàtira de Festa Major i invocació del Curtcircuit
LOCATION:
METHOD:PUBLISH
X-WR-CALNAME:comunicacio@castellbisbal.cat
X-WR-TIMEZONE:Europe/Madrid
DESCRIPTION:A les 23.00 h, inici a la Plaça de l'Església

URI:https://www.castellbisbal.cat/actualitat/agenda/nit-del-curtcircuit-acte-ii-satira-de-festa-major-i-invocacio-del-curtcircuit.html
CLASS:PUBLIC
END:VEVENT
END:VCALENDAR
