BEGIN:VCALENDAR
VERSION:2.0
CALSCALE:GREGORIAN
PRODID:-//Diputació de Barcelona//DibaCMS//EN
BEGIN:VEVENT
UID:21866
DTSTAMP:20260424T150749
DTSTART:20230817T230000
DTEND:20230817T230000
SUMMARY:Cinema en remull. Super Mario Bros: la pel·lícula
LOCATION:C. Agricultura, s/n 08755 Castellbisbal
METHOD:PUBLISH
X-WR-CALNAME:comunicacio@castellbisbal.cat
X-WR-TIMEZONE:Europe/Madrid
DESCRIPTION:Obertura a les 22.30 h. Inici a les 23.00 h, a la piscina d'estiu de l'Illa Esportiva

URI:https://www.castellbisbal.cat/actualitat/agenda/cinema-en-remull-super-mario-bros-la-pellicula.html
CLASS:PUBLIC
END:VEVENT
END:VCALENDAR
