BEGIN:VCALENDAR
VERSION:2.0
CALSCALE:GREGORIAN
PRODID:-//Diputació de Barcelona//DibaCMS//EN
BEGIN:VEVENT
UID:21867
DTSTAMP:20260425T040610
DTSTART:20230818T003000
DTEND:20230818T003000
SUMMARY:Concert amb Banda Neon
LOCATION:Parc Folch i Torres 08755 Castellbisbal
METHOD:PUBLISH
X-WR-CALNAME:comunicacio@castellbisbal.cat
X-WR-TIMEZONE:Europe/Madrid
DESCRIPTION:A les 00.30 h, a l'Envelat del parc Folch i Torres

URI:https://www.castellbisbal.cat/actualitat/agenda/concert-amb-banda-neon.html
CLASS:PUBLIC
END:VEVENT
END:VCALENDAR
