BEGIN:VCALENDAR
VERSION:2.0
CALSCALE:GREGORIAN
PRODID:-//Diputació de Barcelona//DibaCMS//EN
BEGIN:VEVENT
UID:21868
DTSTAMP:20260424T154206
DTSTART:20230818T023000
DTEND:20230818T023000
SUMMARY:Carnaval d'estiu
LOCATION:Parc Folch i Torres 08755 Castellbisbal
METHOD:PUBLISH
X-WR-CALNAME:comunicacio@castellbisbal.cat
X-WR-TIMEZONE:Europe/Madrid
DESCRIPTION:A les 02.30 h, a l'Envelat del parc de Folch i Torres

URI:https://www.castellbisbal.cat/actualitat/agenda/21868-carnaval-destiu.html
CLASS:PUBLIC
END:VEVENT
END:VCALENDAR
