BEGIN:VCALENDAR
VERSION:2.0
CALSCALE:GREGORIAN
PRODID:-//Diputació de Barcelona//DibaCMS//EN
BEGIN:VEVENT
UID:21869
DTSTAMP:20260424T064339
DTSTART:20230818T100000
DTEND:20230818T100000
SUMMARY:Passejada amb carros
LOCATION:08755 Castellbisbal
METHOD:PUBLISH
X-WR-CALNAME:comunicacio@castellbisbal.cat
X-WR-TIMEZONE:Europe/Madrid
DESCRIPTION:A les 10.00 h, a la Plaça de l'Església

URI:https://www.castellbisbal.cat/actualitat/agenda/21869-passejada-amb-carros.html
CLASS:PUBLIC
END:VEVENT
END:VCALENDAR
