BEGIN:VCALENDAR
VERSION:2.0
CALSCALE:GREGORIAN
PRODID:-//Diputació de Barcelona//DibaCMS//EN
BEGIN:VEVENT
UID:21870
DTSTAMP:20260424T034249
DTSTART:20230818T103000
DTEND:20230818T103000
SUMMARY:Les Destreses Pota-roges
LOCATION:Països Catalans, 30 08755 Castellbisbal
METHOD:PUBLISH
X-WR-CALNAME:comunicacio@castellbisbal.cat
X-WR-TIMEZONE:Europe/Madrid
DESCRIPTION:De 10.30 a 12.30 h, al parc de les Destreses (entre la variant i el carrer dels Països Catalans) Can Cases de l'Església

URI:https://www.castellbisbal.cat/actualitat/agenda/21870-les-destreses-pota-roges.html
CLASS:PUBLIC
END:VEVENT
END:VCALENDAR
