BEGIN:VCALENDAR
VERSION:2.0
CALSCALE:GREGORIAN
PRODID:-//Diputació de Barcelona//DibaCMS//EN
BEGIN:VEVENT
UID:21871
DTSTAMP:20260424T013800
DTSTART:20230818T120000
DTEND:20230818T120000
SUMMARY:Jocs tradicionals
LOCATION:Plaça de l'Església 08755 Castellbisbal
METHOD:PUBLISH
X-WR-CALNAME:comunicacio@castellbisbal.cat
X-WR-TIMEZONE:Europe/Madrid
DESCRIPTION:A les 12.00 h, al pati de l'Esbarjo

URI:https://www.castellbisbal.cat/actualitat/agenda/jocs-tradicionals.html
CLASS:PUBLIC
END:VEVENT
END:VCALENDAR
