BEGIN:VCALENDAR
VERSION:2.0
CALSCALE:GREGORIAN
PRODID:-//Diputació de Barcelona//DibaCMS//EN
BEGIN:VEVENT
UID:21878
DTSTAMP:20260424T110223
DTSTART:20230818T220000
DTEND:20230818T220000
SUMMARY:Empaitafoc infantil
LOCATION:08755 Castellbisbal
METHOD:PUBLISH
X-WR-CALNAME:comunicacio@castellbisbal.cat
X-WR-TIMEZONE:Europe/Madrid
DESCRIPTION:A les 22.00 h, inici a la Plaça de l'Església

URI:https://www.castellbisbal.cat/actualitat/agenda/21878-empaitafoc-infantil.html
CLASS:PUBLIC
END:VEVENT
END:VCALENDAR
