BEGIN:VCALENDAR
VERSION:2.0
CALSCALE:GREGORIAN
PRODID:-//Diputació de Barcelona//DibaCMS//EN
BEGIN:VEVENT
UID:21879
DTSTAMP:20260424T181738
DTSTART:20230818T230000
DTEND:20230818T230000
SUMMARY:Concert amb Marina BB Face & The Beatroots
LOCATION:Plaça del Joc 08755 Castellbisbal
METHOD:PUBLISH
X-WR-CALNAME:comunicacio@castellbisbal.cat
X-WR-TIMEZONE:Europe/Madrid
DESCRIPTION:A les 23.00 h, a la plaça del Joc

URI:https://www.castellbisbal.cat/actualitat/agenda/concert-amb-marina-bb-face-and-the-beatroots.html
CLASS:PUBLIC
END:VEVENT
END:VCALENDAR
