BEGIN:VCALENDAR
VERSION:2.0
CALSCALE:GREGORIAN
PRODID:-//Diputació de Barcelona//DibaCMS//EN
BEGIN:VEVENT
UID:21880
DTSTAMP:20260424T180108
DTSTART:20230819T000000
DTEND:20230819T000000
SUMMARY:Concert amb El niño de la hipoteca
LOCATION:Parc Folch i Torres 08755 Castellbisbal
METHOD:PUBLISH
X-WR-CALNAME:comunicacio@castellbisbal.cat
X-WR-TIMEZONE:Europe/Madrid
DESCRIPTION:A les 00.00 h, a l'Envelat del parc Folch i Torres

URI:https://www.castellbisbal.cat/actualitat/agenda/concert-amb-el-nino-de-la-hipoteca.html
CLASS:PUBLIC
END:VEVENT
END:VCALENDAR
