BEGIN:VCALENDAR
VERSION:2.0
CALSCALE:GREGORIAN
PRODID:-//Diputació de Barcelona//DibaCMS//EN
BEGIN:VEVENT
UID:21883
DTSTAMP:20260425T015153
DTSTART:20230819T100000
DTEND:20230819T100000
SUMMARY:Torneig de ràpides d'escacs
LOCATION:Av. de Pau Casals, 16 08755 Castellbisbal
METHOD:PUBLISH
X-WR-CALNAME:comunicacio@castellbisbal.cat
X-WR-TIMEZONE:Europe/Madrid
DESCRIPTION:A les 10.00 h, a la plaça de Joana Raspall d'Els Costals

URI:https://www.castellbisbal.cat/actualitat/agenda/21883-torneig-de-rapides-descacs.html
CLASS:PUBLIC
END:VEVENT
END:VCALENDAR
