BEGIN:VCALENDAR
VERSION:2.0
CALSCALE:GREGORIAN
PRODID:-//Diputació de Barcelona//DibaCMS//EN
BEGIN:VEVENT
UID:21884
DTSTAMP:20260424T080710
DTSTART:20230819T110000
DTEND:20230819T110000
SUMMARY:Circumloqui de la companya Peus de porc
LOCATION:08755 Castellbisbal
METHOD:PUBLISH
X-WR-CALNAME:comunicacio@castellbisbal.cat
X-WR-TIMEZONE:Europe/Madrid
DESCRIPTION:A les 11.00 h, a la Plaça de l'Església

URI:https://www.castellbisbal.cat/actualitat/agenda/circumloqui-de-la-companya-peus-de-porc.html
CLASS:PUBLIC
END:VEVENT
END:VCALENDAR
