BEGIN:VCALENDAR
VERSION:2.0
CALSCALE:GREGORIAN
PRODID:-//Diputació de Barcelona//DibaCMS//EN
BEGIN:VEVENT
UID:21885
DTSTAMP:20260424T205022
DTSTART:20230819T113000
DTEND:20230819T113000
SUMMARY:Personalitza't amb el petit pagès!
LOCATION:Carrer Pi i Margall, 13 08755 Castellbisbal
METHOD:PUBLISH
X-WR-CALNAME:comunicacio@castellbisbal.cat
X-WR-TIMEZONE:Europe/Madrid
DESCRIPTION:D'11.30 a 13.30 h, al Museu de la Pagesia

URI:https://www.castellbisbal.cat/actualitat/agenda/personalitzat-amb-el-petit-pages.html
CLASS:PUBLIC
END:VEVENT
END:VCALENDAR
