BEGIN:VCALENDAR
VERSION:2.0
CALSCALE:GREGORIAN
PRODID:-//Diputació de Barcelona//DibaCMS//EN
BEGIN:VEVENT
UID:21886
DTSTAMP:20260424T193227
DTSTART:20230819T120000
DTEND:20230819T120000
SUMMARY:40è concurs de tastavins
LOCATION:Av. de Pau Casals 7 08755 Castellbisbal
METHOD:PUBLISH
X-WR-CALNAME:comunicacio@castellbisbal.cat
X-WR-TIMEZONE:Europe/Madrid
DESCRIPTION:A les 12.00 h, al Casal Cultural i Recreatiu

URI:https://www.castellbisbal.cat/actualitat/agenda/40e-concurs-de-tastavins.html
CLASS:PUBLIC
END:VEVENT
END:VCALENDAR
