BEGIN:VCALENDAR
VERSION:2.0
CALSCALE:GREGORIAN
PRODID:-//Diputació de Barcelona//DibaCMS//EN
BEGIN:VEVENT
UID:21887
DTSTAMP:20260424T150332
DTSTART:20230819T120000
DTEND:20230819T120000
SUMMARY:XXVII Campionat joc de bitlles Ronda del Rei
LOCATION:
METHOD:PUBLISH
X-WR-CALNAME:comunicacio@castellbisbal.cat
X-WR-TIMEZONE:Europe/Madrid
DESCRIPTION:A les 12.00 h al carrer Major, davant del pati de l'Esbarjo

URI:https://www.castellbisbal.cat/actualitat/agenda/xxvii-campionat-joc-de-bitlles-ronda-del-rei.html
CLASS:PUBLIC
END:VEVENT
END:VCALENDAR
