BEGIN:VCALENDAR
VERSION:2.0
CALSCALE:GREGORIAN
PRODID:-//Diputació de Barcelona//DibaCMS//EN
BEGIN:VEVENT
UID:21890
DTSTAMP:20260424T151627
DTSTART:20230819T170000
DTEND:20230819T170000
SUMMARY:Rol en viu: un viatge en el temps per Castellbisbal
LOCATION:
METHOD:PUBLISH
X-WR-CALNAME:comunicacio@castellbisbal.cat
X-WR-TIMEZONE:Europe/Madrid
DESCRIPTION:A les 17.00 h, itinerant amb cotxe

URI:https://www.castellbisbal.cat/actualitat/agenda/rol-en-viu-un-viatge-en-el-temps-per-castellbisbal.html
CLASS:PUBLIC
END:VEVENT
END:VCALENDAR
