BEGIN:VCALENDAR
VERSION:2.0
CALSCALE:GREGORIAN
PRODID:-//Diputació de Barcelona//DibaCMS//EN
BEGIN:VEVENT
UID:21892
DTSTAMP:20260425T015448
DTSTART:20230819T180000
DTEND:20230819T180000
SUMMARY:La cursa dels lents
LOCATION:
METHOD:PUBLISH
X-WR-CALNAME:comunicacio@castellbisbal.cat
X-WR-TIMEZONE:Europe/Madrid
DESCRIPTION:A les 18.00 h al carrer de Pi i Margall, des de la Plaça de l'Església fins al Museu (La Barana)

URI:https://www.castellbisbal.cat/actualitat/agenda/21892-la-cursa-dels-lents.html
CLASS:PUBLIC
END:VEVENT
END:VCALENDAR
