BEGIN:VCALENDAR
VERSION:2.0
CALSCALE:GREGORIAN
PRODID:-//Diputació de Barcelona//DibaCMS//EN
BEGIN:VEVENT
UID:21894
DTSTAMP:20260424T093642
DTSTART:20230819T190000
DTEND:20230819T190000
SUMMARY:Espectacle: "Flou papagaio"
LOCATION:
METHOD:PUBLISH
X-WR-CALNAME:comunicacio@castellbisbal.cat
X-WR-TIMEZONE:Europe/Madrid
DESCRIPTION:A les 19.00 h, al parc de Neus Català

URI:https://www.castellbisbal.cat/actualitat/agenda/espectacle-flou-papagaio.html
CLASS:PUBLIC
END:VEVENT
END:VCALENDAR
