BEGIN:VCALENDAR
VERSION:2.0
CALSCALE:GREGORIAN
PRODID:-//Diputació de Barcelona//DibaCMS//EN
BEGIN:VEVENT
UID:21895
DTSTAMP:20260425T011749
DTSTART:20230819T190000
DTEND:20230819T190000
SUMMARY:Partit de futbol
LOCATION:
METHOD:PUBLISH
X-WR-CALNAME:comunicacio@castellbisbal.cat
X-WR-TIMEZONE:Europe/Madrid
DESCRIPTION:A les 19.00 h, al camp de futbol

URI:https://www.castellbisbal.cat/actualitat/agenda/21895-partit-de-futbol.html
CLASS:PUBLIC
END:VEVENT
END:VCALENDAR
