BEGIN:VCALENDAR
VERSION:2.0
CALSCALE:GREGORIAN
PRODID:-//Diputació de Barcelona//DibaCMS//EN
BEGIN:VEVENT
UID:21896
DTSTAMP:20260424T051047
DTSTART:20230729T180000
DTEND:20230729T180000
SUMMARY:Juga a l'estil dels anys 80 i 90
LOCATION:Carrer Montjuic, 14-20 08755 Castellbisbal
METHOD:PUBLISH
X-WR-CALNAME:comunicacio@castellbisbal.cat
X-WR-TIMEZONE:Europe/Madrid
DESCRIPTION:A les 18.00 h, al Centre cívic de Can Santeugini

URI:https://www.castellbisbal.cat/actualitat/agenda/juga-a-lestil-dels-anys-80-i-90.html
CLASS:PUBLIC
END:VEVENT
END:VCALENDAR
