BEGIN:VCALENDAR
VERSION:2.0
CALSCALE:GREGORIAN
PRODID:-//Diputació de Barcelona//DibaCMS//EN
BEGIN:VEVENT
UID:21897
DTSTAMP:20260424T194418
DTSTART:20230819T204500
DTEND:20230819T204500
SUMMARY:Tabalada de l'empaitafoc
LOCATION:Plaça del Joc 08755 Castellbisbal
METHOD:PUBLISH
X-WR-CALNAME:comunicacio@castellbisbal.cat
X-WR-TIMEZONE:Europe/Madrid
DESCRIPTION:A les 20.45 h, a la plaça del Joc

URI:https://www.castellbisbal.cat/actualitat/agenda/21897-tabalada-de-lempaitafoc.html
CLASS:PUBLIC
END:VEVENT
END:VCALENDAR
