BEGIN:VCALENDAR
VERSION:2.0
CALSCALE:GREGORIAN
PRODID:-//Diputació de Barcelona//DibaCMS//EN
BEGIN:VEVENT
UID:21898
DTSTAMP:20260424T194250
DTSTART:20230819T210000
DTEND:20230819T210000
SUMMARY:Festival de la Casa de Andalucía
LOCATION:08755 Castellbisbal
METHOD:PUBLISH
X-WR-CALNAME:comunicacio@castellbisbal.cat
X-WR-TIMEZONE:Europe/Madrid
DESCRIPTION:A les 21.00 h, a la pista d'estiu del Casal Cultural i Recreatiu

URI:https://www.castellbisbal.cat/actualitat/agenda/21898-festival-de-la-casa-de-andalucia.html
CLASS:PUBLIC
END:VEVENT
END:VCALENDAR
