BEGIN:VCALENDAR
VERSION:2.0
CALSCALE:GREGORIAN
PRODID:-//Diputació de Barcelona//DibaCMS//EN
BEGIN:VEVENT
UID:21899
DTSTAMP:20260424T131314
DTSTART:20230819T213000
DTEND:20230819T213000
SUMMARY:Inici amb l'arribada del personatge
LOCATION:08755 Castellbisbal
METHOD:PUBLISH
X-WR-CALNAME:comunicacio@castellbisbal.cat
X-WR-TIMEZONE:Europe/Madrid
DESCRIPTION:A les 21.30 h, a la Plaça de l'Església

URI:https://www.castellbisbal.cat/actualitat/agenda/inici-amb-larribada-del-personatge.html
CLASS:PUBLIC
END:VEVENT
END:VCALENDAR
