BEGIN:VCALENDAR
VERSION:2.0
CALSCALE:GREGORIAN
PRODID:-//Diputació de Barcelona//DibaCMS//EN
BEGIN:VEVENT
UID:21900
DTSTAMP:20260424T092007
DTSTART:20230819T220000
DTEND:20230819T220000
SUMMARY:Nit pirata pels oceans
LOCATION:08755 Castellbisbal
METHOD:PUBLISH
X-WR-CALNAME:comunicacio@castellbisbal.cat
X-WR-TIMEZONE:Europe/Madrid
DESCRIPTION:A les 22.00 h, als jardins de Can Margarit

URI:https://www.castellbisbal.cat/actualitat/agenda/nit-pirata-pels-oceans.html
CLASS:PUBLIC
END:VEVENT
END:VCALENDAR
